BEGIN:VCALENDAR
VERSION:2.0
PRODID:-//wp-events-plugin.com//7.2.3.1//EN
TZID:Asia/Kuala_Lumpur
X-WR-TIMEZONE:Asia/Kuala_Lumpur
BEGIN:VEVENT
UID:39@spm.um.edu.my
DTSTART;TZID=Asia/Kuala_Lumpur:20201228T143000
DTEND;TZID=Asia/Kuala_Lumpur:20201228T160000
DTSTAMP:20201216T234026Z
URL:https://spm.um.edu.my/events/webinar-ventilation-and-covid-19/
SUMMARY:Webinar: Ventilation and COVID-19
DESCRIPTION:In the time of the COVID-19 pandemic\, many healthcare workers 
 have been asking about how to ensure our working environment is safe. Is t
 he ventilation in the hospital able to protect us from the SARS-CoV-2 viru
 s? A virus that has been found to be able to spread through aerosols and b
 eing airborne. How can we improve the air quality in the hospital?\n\nWe h
 ave asked these questions to our expert at the University of Malaya. We ha
 ve brought together a group of experts from the Faculty of Medicine\, Facu
 lty of Engineering and Faculty of Built Environment\, University of Malaya
  to bring light to the issue.
ATTACH;FMTTYPE=image/jpeg:https://i0.wp.com/spm.um.edu.my/wp-content/uploa
 ds/2020/12/ventilation-and-covid-19-banner.jpg?fit=613%2C238&ssl=1
CATEGORIES:Webinar
LOCATION:Microsoft Teams Events\, MS Teams Events\, Kuala Lumpur\, Malaysia
X-APPLE-STRUCTURED-LOCATION;VALUE=URI;X-ADDRESS=MS Teams Events\, Kuala Lum
 pur\, Malaysia;X-APPLE-RADIUS=100;X-TITLE=Microsoft Teams Events:geo:0,0
END:VEVENT
BEGIN:VTIMEZONE
TZID:Asia/Kuala_Lumpur
X-LIC-LOCATION:Asia/Kuala_Lumpur
BEGIN:STANDARD
DTSTART:20191229T143000
TZOFFSETFROM:+0800
TZOFFSETTO:+0800
TZNAME:+08
END:STANDARD
END:VTIMEZONE
END:VCALENDAR