BEGIN:VCALENDAR
VERSION:2.0
PRODID:-//wp-events-plugin.com//7.2.3.1//EN
TZID:Asia/Kuala_Lumpur
X-WR-TIMEZONE:Asia/Kuala_Lumpur
BEGIN:VEVENT
UID:103@spm.um.edu.my
DTSTART;TZID=Asia/Kuala_Lumpur:20230810T100000
DTEND;TZID=Asia/Kuala_Lumpur:20230810T110000
DTSTAMP:20230802T043317Z
URL:https://spm.um.edu.my/events/thesis-seminar-presentation-by-dharina-ba
 haruddin/
SUMMARY:Thesis Seminar Presentation by Dharina Baharuddin
DESCRIPTION:\nThe Department of Social and Preventive Medicine\, Faculty of
  Medicine\, Universiti Malaya would like to invite all to attend the Thesi
 s Seminar Presentation by Dharina Baharuddin titled "The Effectiveness of 
 Sunnah Intermittent Fasting in Reducing Elevated Blood Pressure Among Civi
 l Servants in Aceh\, Indonesia" from 10.00 am to 11.00 am on the 10 August
  2023. \n
ATTACH;FMTTYPE=image/jpeg:https://i0.wp.com/spm.um.edu.my/wp-content/uploa
 ds/2023/08/Thesis-Seminar-Presentation-10-Ogos-2023.png?fit=1080%2C1080&ss
 l=1
CATEGORIES:Seminar,Workshop
LOCATION:https://teams.microsoft.com/l/meetup-join/19%3ameeting_NDE1ODExMGM
 tZTlkMi00ZjcyLWJmM2YtNmI2OWZhZDRmYWJm%40thread.v2/0?context=%7b%22Tid%22%3
 a%22a63bb1a9-48c2-448b-8693-3317b00ca7fb%22%2c%22Oid%22%3a%225979e590-48f8
 -4869-aca4-5d3b7ff2b3be%22%7d
END:VEVENT
BEGIN:VTIMEZONE
TZID:Asia/Kuala_Lumpur
X-LIC-LOCATION:Asia/Kuala_Lumpur
BEGIN:STANDARD
DTSTART:20220810T100000
TZOFFSETFROM:+0800
TZOFFSETTO:+0800
TZNAME:+08
END:STANDARD
END:VTIMEZONE
END:VCALENDAR