BEGIN:VCALENDAR
VERSION:2.0
PRODID:-//wp-events-plugin.com//7.2.3.1//EN
TZID:Asia/Kuala_Lumpur
X-WR-TIMEZONE:Asia/Kuala_Lumpur
BEGIN:VEVENT
UID:31@spm.um.edu.my
DTSTART;TZID=Asia/Kuala_Lumpur:20190320T083000
DTEND;TZID=Asia/Kuala_Lumpur:20190320T170000
DTSTAMP:20190315T023148Z
URL:https://spm.um.edu.my/events/stata-workshop/
SUMMARY:STATA workshop
DESCRIPTION:The Centre for Epidemiology and Evidence-based Practice is orga
 nising a workshop on STATA on the 20 March 2019 at the SPM Computer Labora
 tory\, Department of Social and Preventive Medicine\, Faculty of Medicine\
 , University of Malaya. The facilitator for the workshop is Prof Sanjay Ra
 mpal. 
CATEGORIES:Workshop
LOCATION:SPM Computer Lab\, Department of Social and Preventive Medicine\, 
 Level 5\, Block J\, Faculty of Medicine\, University of Malaya\, Kuala Lum
 pur\, 50603\, Malaysia
GEO:3.1145124;101.6524048
X-APPLE-STRUCTURED-LOCATION;VALUE=URI;X-ADDRESS=Level 5\, Block J\, Faculty
  of Medicine\, University of Malaya\, Kuala Lumpur\, 50603\, Malaysia;X-AP
 PLE-RADIUS=100;X-TITLE=SPM Computer Lab\, Department of Social and Prevent
 ive Medicine:geo:3.1145124,101.6524048
END:VEVENT
BEGIN:VTIMEZONE
TZID:Asia/Kuala_Lumpur
X-LIC-LOCATION:Asia/Kuala_Lumpur
BEGIN:STANDARD
DTSTART:20180320T083000
TZOFFSETFROM:+0800
TZOFFSETTO:+0800
TZNAME:+08
END:STANDARD
END:VTIMEZONE
END:VCALENDAR