BEGIN:VCALENDAR
VERSION:2.0
PRODID:-//wp-events-plugin.com//7.2.3.1//EN
TZID:Asia/Kuala_Lumpur
X-WR-TIMEZONE:Asia/Kuala_Lumpur
BEGIN:VEVENT
UID:140@spm.um.edu.my
DTSTART;TZID=Asia/Kuala_Lumpur:20251126T090000
DTEND;TZID=Asia/Kuala_Lumpur:20251127T170000
DTSTAMP:20251113T081037Z
URL:https://spm.um.edu.my/events/series-3-natural-language-processing-nlp/
SUMMARY:Series 3: Natural Language Procesing (NLP)  
DESCRIPTION:\nStep into the world of data science with this exciting sessio
 n on exploring and analysing text data using R. Participants will learn ho
 w to:\n\n\n\n\nExtract and process text data from various sources\n\n\n\nU
 ncover patterns and insights using&nbsp\;Natural Language Processing (NLP)
 \n\n\n\nPull information from the web\n\n\n\nCreate eye-catching thematic 
 maps\n\n\n\n\nThis session is ideal for those interested in discovering ho
 w textual data can inform smarter\, evidence-based decisions in research a
 nd public health.\n\n\n\n Register Here!\n\n\n\n Tentative Programme\n\n\n
 \nThis workshop is ideal for researchers\, students\, and health professi
 onals seeking to strengthen their analytical and visualisation skills usi
 ng R.\n\n\n\n For further inquiries\, please contact cephum@um.edu.my\n\
 n\n\nWe look forward to learning and exploring data together!\n\n\n\nBest 
 regards\,Centre for Population Health (CePH)Department of Social &amp\; Pr
 eventive Medicine (SPM)Faculty of Medicine\, Universiti Malaya\n
ATTACH;FMTTYPE=image/jpeg:https://i0.wp.com/spm.um.edu.my/wp-content/uploa
 ds/2025/11/Series-3.png?fit=1414%2C2000&ssl=1
CATEGORIES:Workshop
LOCATION:SPM Conference Room\, Department of Social and Preventive Medicine
 \, Level 5\, Block J\, Faculty of Medicine\, University of Malaya\, Kuala 
 Lumpur\, 50603\, Malaysia
GEO:3.1145124;101.6524048
X-APPLE-STRUCTURED-LOCATION;VALUE=URI;X-ADDRESS=Level 5\, Block J\, Faculty
  of Medicine\, University of Malaya\, Kuala Lumpur\, 50603\, Malaysia;X-AP
 PLE-RADIUS=100;X-TITLE=SPM Conference Room\, Department of Social and Prev
 entive Medicine:geo:3.1145124,101.6524048
END:VEVENT
BEGIN:VTIMEZONE
TZID:Asia/Kuala_Lumpur
X-LIC-LOCATION:Asia/Kuala_Lumpur
BEGIN:STANDARD
DTSTART:20241126T090000
TZOFFSETFROM:+0800
TZOFFSETTO:+0800
TZNAME:+08
END:STANDARD
END:VTIMEZONE
END:VCALENDAR