BEGIN:VCALENDAR
VERSION:2.0
PRODID:-//wp-events-plugin.com//7.2.3.1//EN
TZID:Asia/Kuala_Lumpur
X-WR-TIMEZONE:Asia/Kuala_Lumpur
BEGIN:VEVENT
UID:52@spm.um.edu.my
DTSTART;TZID=Asia/Kuala_Lumpur:20220309T090000
DTEND;TZID=Asia/Kuala_Lumpur:20220309T160000
DTSTAMP:20220222T021347Z
URL:https://spm.um.edu.my/events/randomized-control-trial-ceph-online-work
 shop-2/
SUMMARY:Randomized Control Trial : CePH Online Workshop
DESCRIPTION:\n\nDear All\,\nWe are pleased to announce that the Centre for 
 Population Health (CePH) is organizing the Randomized Control Trial Worksh
 op which will be held on 9th March 2022.\n\nThis workshop will guide stude
 nts and researchers on designing\, implementing and analyzing data of RCT 
 design.\n\nFor more information\, kindly e-mail us at ceph@um.edu.my or co
 ntact us at 03-79677513\n\nPayment link  :\nepay.um.edu.my -&gt\;Log Ma
 suk (DIWAJIBKAN) -&gt\; Utama -&gt\; Yuran Penyertaan -&gt\; Yuran Bengke
 l/Kursus/Latihan/Aktiviti -&gt\; Fakulti Perubatan -&gt\; JAB. SPM - WORKS
 HOP ON RANDOMIZED CONTROL TRIAL or click on this LINK\n\nPlease register b
 elow to reserve a seat.\n\nThank you and we look forward to welcoming you 
 to the online workshop.
CATEGORIES:Workshop
END:VEVENT
BEGIN:VTIMEZONE
TZID:Asia/Kuala_Lumpur
X-LIC-LOCATION:Asia/Kuala_Lumpur
BEGIN:STANDARD
DTSTART:20210309T090000
TZOFFSETFROM:+0800
TZOFFSETTO:+0800
TZNAME:+08
END:STANDARD
END:VTIMEZONE
END:VCALENDAR