BEGIN:VCALENDAR
VERSION:2.0
PRODID:-//wp-events-plugin.com//7.2.3.1//EN
TZID:Asia/Kuala_Lumpur
X-WR-TIMEZONE:Asia/Kuala_Lumpur
BEGIN:VEVENT
UID:2@spm.um.edu.my
DTSTART;TZID=Asia/Kuala_Lumpur:20180403T083000
DTEND;TZID=Asia/Kuala_Lumpur:20180404T170000
DTSTAMP:20180321T064735Z
URL:https://spm.um.edu.my/events/questionnaire-validation-workshop-03-04-a
 pril-2018/
SUMMARY:Questionnaire Validation Workshop
DESCRIPTION:In most population-based studies\, the questionnaire is the onl
 y instrument that connects the researcher with the respondent. If this too
 l is not valid\, then the findings will not be useful at all. The task of 
 constructing\, testing and validating a questionnaire is not as easy as it
  may look.
ATTACH;FMTTYPE=image/jpeg:https://i0.wp.com/spm.um.edu.my/wp-content/uploa
 ds/2018/01/jcum05-1200.png?fit=1200%2C328&ssl=1
CATEGORIES:Workshop
LOCATION:SPM Computer Lab\, Department of Social and Preventive Medicine\, 
 Level 5\, Block J\, Faculty of Medicine\, University of Malaya\, Kuala Lum
 pur\, 50603\, Malaysia
GEO:3.114600;101.652405
X-APPLE-STRUCTURED-LOCATION;VALUE=URI;X-ADDRESS=Level 5\, Block J\, Faculty
  of Medicine\, University of Malaya\, Kuala Lumpur\, 50603\, Malaysia;X-AP
 PLE-RADIUS=100;X-TITLE=SPM Computer Lab\, Department of Social and Prevent
 ive Medicine:geo:3.114600,101.652405
END:VEVENT
BEGIN:VTIMEZONE
TZID:Asia/Kuala_Lumpur
X-LIC-LOCATION:Asia/Kuala_Lumpur
BEGIN:STANDARD
DTSTART:20170403T083000
TZOFFSETFROM:+0800
TZOFFSETTO:+0800
TZNAME:+08
END:STANDARD
END:VTIMEZONE
END:VCALENDAR