BEGIN:VCALENDAR
VERSION:2.0
PRODID:-//wp-events-plugin.com//7.2.3.1//EN
TZID:Asia/Kuala_Lumpur
X-WR-TIMEZONE:Asia/Kuala_Lumpur
BEGIN:VEVENT
UID:19@spm.um.edu.my
DTSTART;TZID=Asia/Kuala_Lumpur:20180906T080000
DTEND;TZID=Asia/Kuala_Lumpur:20180907T160000
DTSTAMP:20180725T005833Z
URL:https://spm.um.edu.my/events/introduction-to-data-management-and-basic
 -statistical-analysis-using-stata/
SUMMARY:Introduction to Data Management and Basic Statistical Analysis usin
 g STATA
DESCRIPTION:ABOUT THE WORKSHOP\nData Management \nWhy is Data Management im
 portant? - “Because data management is good research practice.” By man
 aging your data well you can:\n\n\n 	 Find and understand it when needed \
 n 	 Avoid unnecessary duplication \n 	 Validate your results if required \
 n 	 Ensure your research is visible and has impact \n 	 Get credit when ot
 hers cite your work \n 	 Comply with Funder mandates \n\nThis talk will co
 ver: \n\n\n 	 What is data management? \n 	 Why is it so important? \n 	 O
 verview of data management process \n 	 Designing data collection: layout 
 and the codebook \n 	 Entering data and quality control \n 	 Documentation
  Basic Statistical Analysis \n\n“Statistical methods are often used to c
 ommunicate research findings and to support hypotheses and give credibilit
 y to research methodology and conclusions.”\nThis talk will cover: \n\n\
 n 	 Summarizing &amp\; Visualizing data \n 	 Comparing proportions \n 	 Co
 mparing 2 means\n 	 Comparing ≥ 3 means \n 	 Correlation \n\nREGISTRATIO
 N FEES\nUM Student      RM240\nUM Staff           RM350\nOthers
                 RM500\nFor further information regarding the works
 hops or want to register for the courses\, kindly visit our website at ht
 tps://jcum.um.edu.my//upcoming-workshop-2018\nABOUT THE SPEAKER\nDr. ‘Ab
 qariyah Yahya (Ph.D)\nDr. Qory is a senior lecturer at the Department of S
 ocial and Preventive Medicine University of Malaya. She has conducted many
  research methodology and biostatistics workshops with numerous department
 s within the Ministry of Health. Her areas of interest are non-communicabl
 e diseases\, data analysis (Stata\, SAS and SPSS)\, database development a
 nd data management.  She is also actively involved in local and internati
 onal research.\nFor further information\, please contact us:\nMs Devi Pera
 malah / Ms Ekin\nTel : +603-79673797 Fax : +603-79674975\nFor further info
 rmation\, kindly email us at jcum@ummc.edu.my\nOur Website :\nhttp://jcum.
 um.edu.my\nOur facebook :\nhttps://www.facebook.com/JCUM-Julius-Centre-Uni
 versity-of-Malaya-1539726566337729/\nOur Twitter     :\nhttps://twitte
 r.com/JuliusCentreUM\nORGANIZED BY:\nJulius Centre University of Malaya (J
 CUM)\, \nDepartment of Social &amp\; Preventive Medicine\, Faculty of Medi
 cine\, \nUniversity of Malaya\, Malaysia.\nThe Julius Centre University of
  Malaya (JCUM) was established in 2008. Using advanced epidemiological met
 hods and health data analytics\, JCUM aims to be a regional referral centr
 e for learning and research in the areas of epidemiology\, clinical epidem
 iology\, evidence based medicine\, and biostatistics. The head of this cen
 tre is Assoc. Prof. Dr. Noran Naqiah Binti Mohd Hairi. \n
CATEGORIES:Workshop
LOCATION:SPM Computer Lab\, Department of Social and Preventive Medicine\, 
 Level 5\, Block J\, Faculty of Medicine\, University of Malaya\, Kuala Lum
 pur\, 50603\, Malaysia
GEO:3.1145124;101.6524048
X-APPLE-STRUCTURED-LOCATION;VALUE=URI;X-ADDRESS=Level 5\, Block J\, Faculty
  of Medicine\, University of Malaya\, Kuala Lumpur\, 50603\, Malaysia;X-AP
 PLE-RADIUS=100;X-TITLE=SPM Computer Lab\, Department of Social and Prevent
 ive Medicine:geo:3.1145124,101.6524048
END:VEVENT
BEGIN:VTIMEZONE
TZID:Asia/Kuala_Lumpur
X-LIC-LOCATION:Asia/Kuala_Lumpur
BEGIN:STANDARD
DTSTART:20170906T080000
TZOFFSETFROM:+0800
TZOFFSETTO:+0800
TZNAME:+08
END:STANDARD
END:VTIMEZONE
END:VCALENDAR