BEGIN:VCALENDAR
VERSION:2.0
PRODID:-//wp-events-plugin.com//7.2.3.1//EN
TZID:Asia/Kuala_Lumpur
X-WR-TIMEZONE:Asia/Kuala_Lumpur
BEGIN:VEVENT
UID:5@spm.um.edu.my
DTSTART;TZID=Asia/Kuala_Lumpur:20180604T083000
DTEND;TZID=Asia/Kuala_Lumpur:20180605T170000
DTSTAMP:20180525T031748Z
URL:https://spm.um.edu.my/events/generalized-linear-models-workshop/
SUMMARY:Generalized Linear Model Workshop
DESCRIPTION:The Generalized Linear Model (GLMz) expands the General Linear 
 Model (GLM) so that the dependent variable is linearly related to the fact
 ors and covariates via a specified link function. GLMz allows for the depe
 ndent variable to have a non-normal distribution. GLMz covers widely used 
 statistical models\, such as linear regression for normally distributed re
 sponses\, logistic models for binary data\, logistic models for ordinal da
 ta\, loglinear models for count data\, complementary log-log models for in
 terval-censored survival data\, plus many other statistical models through
  its very general model formulation. The Generalized Estimating Equations 
 (GEE) procedure extends the GLMz to allow for analysis of repeated measure
 ments or other correlated observations\, such as clustered data
ATTACH;FMTTYPE=image/jpeg:https://i0.wp.com/spm.um.edu.my/wp-content/uploa
 ds/2018/01/jcum05-1200.png?fit=1200%2C328&ssl=1
CATEGORIES:Workshop
LOCATION:SPM Computer Lab\, Department of Social and Preventive Medicine\, 
 Level 5\, Block J\, Faculty of Medicine\, University of Malaya\, Kuala Lum
 pur\, 50603\, Malaysia
GEO:3.114600;101.652405
X-APPLE-STRUCTURED-LOCATION;VALUE=URI;X-ADDRESS=Level 5\, Block J\, Faculty
  of Medicine\, University of Malaya\, Kuala Lumpur\, 50603\, Malaysia;X-AP
 PLE-RADIUS=100;X-TITLE=SPM Computer Lab\, Department of Social and Prevent
 ive Medicine:geo:3.114600,101.652405
END:VEVENT
BEGIN:VTIMEZONE
TZID:Asia/Kuala_Lumpur
X-LIC-LOCATION:Asia/Kuala_Lumpur
BEGIN:STANDARD
DTSTART:20170604T083000
TZOFFSETFROM:+0800
TZOFFSETTO:+0800
TZNAME:+08
END:STANDARD
END:VTIMEZONE
END:VCALENDAR