BEGIN:VCALENDAR
VERSION:2.0
PRODID:-//wp-events-plugin.com//7.2.3.1//EN
TZID:Asia/Kuala_Lumpur
X-WR-TIMEZONE:Asia/Kuala_Lumpur
BEGIN:VEVENT
UID:130@spm.um.edu.my
DTSTART;TZID=Asia/Kuala_Lumpur:20241106T090000
DTEND;TZID=Asia/Kuala_Lumpur:20241107T160000
DTSTAMP:20241023T061500Z
URL:https://spm.um.edu.my/events/ceph-workshop-r-workshop-series-2-regress
 ion-modeling-strategies-2/
SUMMARY:CePH Workshop - R Workshop Series 2: Regression Modeling Strategies
DESCRIPTION:\nThe Centre for Population Health (CePH)\, Department of Socia
 l and Preventive Medicine\, Faculty of Medicine\, Universiti Malaya\, Kual
 a Lumpur\, Malaysia is organising the following&nbsp\;workshop. We cordial
 ly invite you to join our hybrid workshop&nbsp\;as per details below:\n\n\
 n\nDate: 6th and 7th November 2024Time: 9.00 am - 4.00 pmVenue: Learnin
 g Centre: Regional Training Centre in Western Pacific Region\, Block J\, L
 evel 5\, Department of Social and Preventive Medicine\, Faculty of Medicin
 e\, Universiti MalayaOnline Platform: ZoomFees:UM Student = RM200UM Staff
  = RM300Non UM Student/Non UM Staff = RM400\n\n\n\n\n\n\n\nYou are welcome
  to participate in this&nbsp\;workshop.\n
ATTACH;FMTTYPE=image/jpeg:https://i0.wp.com/spm.um.edu.my/wp-content/uploa
 ds/2024/10/R-Workshop-Series-1.jpg?fit=2245%2C1587&ssl=1
CATEGORIES:Workshop
LOCATION:TDR Regional Training Centre for Western Pacific Region\, TDR Regi
 onal Training Centre in the Western Pacific Region (SPM Studio)\, Departme
 nt of Social and Preventive Medicine\, Block J\, Level 5\, Faculty of Medi
 cine\, Universiti Malaya\, Kuala Lumpur\, 50603\, Malaysia
X-APPLE-STRUCTURED-LOCATION;VALUE=URI;X-ADDRESS=TDR Regional Training Centr
 e in the Western Pacific Region (SPM Studio)\, Department of Social and Pr
 eventive Medicine\, Block J\, Level 5\, Faculty of Medicine\, Universiti M
 alaya\, Kuala Lumpur\, 50603\, Malaysia;X-APPLE-RADIUS=100;X-TITLE=TDR Reg
 ional Training Centre for Western Pacific Region:geo:0,0
END:VEVENT
BEGIN:VTIMEZONE
TZID:Asia/Kuala_Lumpur
X-LIC-LOCATION:Asia/Kuala_Lumpur
BEGIN:STANDARD
DTSTART:20231107T090000
TZOFFSETFROM:+0800
TZOFFSETTO:+0800
TZNAME:+08
END:STANDARD
END:VTIMEZONE
END:VCALENDAR