BEGIN:VCALENDAR
VERSION:2.0
PRODID:-//wp-events-plugin.com//7.2.3.1//EN
TZID:Asia/Kuala_Lumpur
X-WR-TIMEZONE:Asia/Kuala_Lumpur
BEGIN:VEVENT
UID:106@spm.um.edu.my
DTSTART;TZID=Asia/Kuala_Lumpur:20231024T090000
DTEND;TZID=Asia/Kuala_Lumpur:20231024T163000
DTSTAMP:20231013T025152Z
URL:https://spm.um.edu.my/events/cebp-workshop-series-2023-beyond-evidence
 -based-practice-introduction-to-implementation-science/
SUMMARY:CEBP WORKSHOP SERIES 2023: BEYOND EVIDENCE-BASED PRACTICE - INTRO
 DUCTION TO IMPLEMENTATION SCIENCE
DESCRIPTION:\nINTRODUCTIONInterventions and evidence-based practices that a
 re poorly implemented – or not implemented at all – do not produce exp
 ected health benefits. Even when effectively implemented\, interventions a
 nd practice changes still might not produce the expected health benefits i
 f effectiveness is lost during implementation\, or if the intervention or 
 practice was never effective in the first place.\n\n\n\nThis introductory 
 workshop will provide an insight into implementation science and briefly i
 ntroduce a few frameworks commonly used in the field. By the end of this w
 orkshop\, participants will be able to:\n\n\n\n\nDefine implementation sci
 ence\n\n\n\nDecide and justify whether a health care intervention has suff
 icient evidence to be translated/disseminated into practice\, policy\, or 
 public health\n\n\n\nIdentify strategies and activities for engaging key s
 takeholders in the translation/dissemination of your evidence\n\n\n\nDefin
 e key steps involved in designing effective implementation strategies\n\n\
 n\n\nTENTATIVE PROGRAMME0900 - 0915 Registration and sign in to Zoom0915 -
  1045 Introduction to Implementation Science1045 - 1100 Break1100 - 1230 O
 verview of Implementation Frameworks and Theories1230 - 1415 Lunch1415 - 1
 515 Application of an Implementation Science\, Framework to Guide Interven
 tion Design1515 - 1615 Group Work/Discussion1615 - 1630 Closing\n\n\n\nCli
 ck the link above or below to register.\n\n\n\n\n
ATTACH;FMTTYPE=image/jpeg:https://i0.wp.com/spm.um.edu.my/wp-content/uploa
 ds/2023/10/beyond-evidence-based-practice-2023-8-cpd-1.png?fit=3500%2C2475
 &ssl=1
CATEGORIES:Workshop
LOCATION:https://forms.gle/DdimE2qvyJCwuY9m9
END:VEVENT
BEGIN:VTIMEZONE
TZID:Asia/Kuala_Lumpur
X-LIC-LOCATION:Asia/Kuala_Lumpur
BEGIN:STANDARD
DTSTART:20221024T090000
TZOFFSETFROM:+0800
TZOFFSETTO:+0800
TZNAME:+08
END:STANDARD
END:VTIMEZONE
END:VCALENDAR