BEGIN:VCALENDAR
VERSION:2.0
PRODID:-//wp-events-plugin.com//7.2.3.1//EN
TZID:Asia/Kuala_Lumpur
X-WR-TIMEZONE:Asia/Kuala_Lumpur
BEGIN:VEVENT
UID:58@spm.um.edu.my
DTSTART;TZID=Asia/Kuala_Lumpur:20221116T090000
DTEND;TZID=Asia/Kuala_Lumpur:20221116T163000
DTSTAMP:20221016T071436Z
URL:https://spm.um.edu.my/events/beyond-evidence-based-practice-introducti
 on-to-implementation-science-2/
SUMMARY:Beyond Evidence-Based Practice: Introduction to Implementation Scie
 nce
DESCRIPTION:\nCentre for Epidemiology and Evidence-based Practice\, Departm
 ent of Social and Preventive Medicine\, Faculty of Medicine\, Universiti M
 alaya\, Kuala Lumpur\, Malaysia is organising the following workshop: Beyo
 nd Evidence-Based Practice: Introduction to Implementation Science.\n\n\n\
 nIntervention and evidence-based practices that are poorly implemented - o
 r not implemented at all - do not produce expected health benefits. Even w
 hen effectively implemented\, interventions and practice changes still mig
 ht not produce expected health benefits if effectiveness is lost during im
 plementation\, or if the implementation or practice was never effective in
  the first place.\n\n\n\nThe introductory workshop will provide an insight
  into what implementation science is and briefly introduce a few framework
 s commonly used in the field. At the end of this workshop\, participants w
 ill be able to:\n\n\n\nDefine implementation scienceDecide and justify whe
 ther a health care intervention has sufficient evidence to be translated/d
 isseminated into practice\, policy\, or public healthIdentify strategies a
 nd activities for engaging key stakeholders in the translation/disseminati
 on of your evidenceDefine key steps involved in designing effective implem
 entation strategies\n\n\n\nTentative programme:\n\n\n\n0900-0915 Registrat
 ion and Sign in to Zoom\n\n\n\n0915-1045 Introduction to Implementation Sc
 ience\n\n\n\n1045-1100 Break\n\n\n\n1100-1230 Overview of Implementation F
 ramework and Theories\n\n\n\n1130-1415 Break\n\n\n\n1415-1515 Application 
 of an Implementation Science Framework to Guide Intervention Design\n\n\n\
 n1515-1615 Group work/Discussion\n\n\n\n1615-1630 Closing\n\n\n\n\n\n\n\nV
 enue\n\n\n\nZoom Webinar\n\n\n\nFacilitator\n\n\n\nAssociate Professor Dr&
 nbsp\;Rafdzah Ahmad Zaki\n\n\n\nPayment\n\n\n\nUM Student: RM150.00UM Staf
 f: RM200.00Non UM Staff/Student: RM300.00\n\n\n\nPayment: The payment meth
 od will be provided after registration.\n\n\n\nYou are welcome to particip
 ate in this workshop. Please share this information with your colleagues a
 nd staff.\n\n\n\nThis workshop is&nbsp\;organised by the Centre for Epidem
 iology and Evidence-Based Practice\, Department of Social &amp\; Preventiv
 e Medicine\, Faculty of Medicine\, University of Malaya\, 50603 Kuala Lump
 ur\, Malaysia.\n
CATEGORIES:CEBP Workshop Series,Webinar
END:VEVENT
BEGIN:VTIMEZONE
TZID:Asia/Kuala_Lumpur
X-LIC-LOCATION:Asia/Kuala_Lumpur
BEGIN:STANDARD
DTSTART:20211116T090000
TZOFFSETFROM:+0800
TZOFFSETTO:+0800
TZNAME:+08
END:STANDARD
END:VTIMEZONE
END:VCALENDAR