BEGIN:VCALENDAR
VERSION:2.0
PRODID:-//wp-events-plugin.com//7.2.3.1//EN
TZID:Asia/Kuala_Lumpur
X-WR-TIMEZONE:Asia/Kuala_Lumpur
BEGIN:VEVENT
UID:144@spm.um.edu.my
DTSTART;TZID=Asia/Taipei:20261020T080000
DTEND;TZID=Asia/Taipei:20261023T190000
DTSTAMP:20260309T052737Z
URL:https://spm.um.edu.my/events/57th-apacph-conference-2026/
SUMMARY:57th APACPH Conference 2026
DESCRIPTION:\nThe 57th conference of the Asia-Pacific Academic Consortium f
 or Public Health (APACPH) will take place from October 20 to 23\, 2026\, i
 n Tainan\, Taiwan\, at National Cheng Kung University (NCKU).\n\n\n\nConfe
 rence Theme &amp\; Focus\n\n\n\nThe conference will centre on the theme 
 “Leveraging Healthcare Technology and Innovation for Public Health Advan
 cement”. This theme reflects the growing importance of digital health\, 
 innovation in health services\, and ways in which academic and practice-ba
 sed public health can harness technology to address regional health challe
 nges.\n\n\n\nKey Details &amp\; What to Expect\n\n\n\nAbstract submission 
 opens: February 10\, 2026Registration opens: May 20\, 2026Abstract
  submission deadline: June 30\, 2026\n\n\n\n\n\n\n
ATTACH;FMTTYPE=image/jpeg:https://i0.wp.com/spm.um.edu.my/wp-content/uploa
 ds/2026/03/apacph2026-poster.webp?fit=596%2C834&ssl=1
CATEGORIES:Conference,External Event,Workshop
LOCATION:National Cheng Kung University\, No. 1 University Road\, East Di
 strict  \, Tainan City\, 701\, Taiwan
X-APPLE-STRUCTURED-LOCATION;VALUE=URI;X-ADDRESS=No. 1 University Road\, E
 ast District  \, Tainan City\, 701\, Taiwan;X-APPLE-RADIUS=100;X-TITLE=Nat
 ional Cheng Kung University:geo:0,0
END:VEVENT
BEGIN:VTIMEZONE
TZID:Asia/Taipei
X-LIC-LOCATION:Asia/Taipei
BEGIN:STANDARD
DTSTART:20251020T080000
TZOFFSETFROM:+0800
TZOFFSETTO:+0800
TZNAME:CST
END:STANDARD
END:VTIMEZONE
END:VCALENDAR